BEGIN:VCALENDAR
VERSION:2.0
PRODID:icalendar-ruby
CALSCALE:GREGORIAN
METHOD:PUBLISH
BEGIN:VEVENT
DTSTAMP:20260421T145736Z
UID:7-741947@greatcommissionbaptist.church
DTSTART:20261025T140000Z
DTEND:20261025T151500Z
CLASS:PUBLIC
CREATED:20260421T102208
DESCRIPTION:Join us as Pastor Mike preaches/teaches through the Book of Rom
 ans.
LAST-MODIFIED:20260421T102208
LOCATION:KG Clubhouse
SUMMARY:Sunday Worship
URL;VALUE=URI:https://www.greatcommissionbaptist.church/events/sunday-worsh
 ip/2026-10-25
ATTACH;FILENAME=GCBC-3.JPG;FMTTYPE=image/jpeg:https://dq5pwpg1q8ru0.cloudfr
 ont.net/2023/09/29/10/57/24/1168d184-6d67-43b9-91cc-72d1e595aae9/GCBC-3.JP
 G
END:VEVENT
END:VCALENDAR
