BEGIN:VCALENDAR
VERSION:2.0
PRODID:icalendar-ruby
CALSCALE:GREGORIAN
METHOD:PUBLISH
BEGIN:VEVENT
DTSTAMP:20260421T081543Z
UID:10-733393@greatcommissionbaptist.church
DTSTART:20260502T120000Z
DTEND:20260502T133000Z
CLASS:PUBLIC
CREATED:20260412T150055
DESCRIPTION:
LAST-MODIFIED:20260412T150055
LOCATION:Panera Bread\, Wescott
SUMMARY:GCBC Men - Book Study
URL;VALUE=URI:https://www.greatcommissionbaptist.church/events/gcbc-men-boo
 k-study/2026-05-02
ATTACH;FILENAME=Spiritual-Health-book.jpg;FMTTYPE=image/jpeg:https://dq5pwp
 g1q8ru0.cloudfront.net/2026/04/12/18/58/36/1f88abab-e50f-4d80-80f9-9beddcd
 57f00/Spiritual-Health-book.jpg
END:VEVENT
END:VCALENDAR
